BEGIN:VCALENDAR
VERSION:2.0
PRODID:-//Gospel Rescue Mission Grants Pass - ECPv6.15.20//NONSGML v1.0//EN
CALSCALE:GREGORIAN
METHOD:PUBLISH
X-WR-CALNAME:Gospel Rescue Mission Grants Pass
X-ORIGINAL-URL:https://gospelrescuemissiongp.org
X-WR-CALDESC:Events for Gospel Rescue Mission Grants Pass
REFRESH-INTERVAL;VALUE=DURATION:PT1H
X-Robots-Tag:noindex
X-PUBLISHED-TTL:PT1H
BEGIN:VTIMEZONE
TZID:America/Los_Angeles
BEGIN:DAYLIGHT
TZOFFSETFROM:-0800
TZOFFSETTO:-0700
TZNAME:PDT
DTSTART:20250309T100000
END:DAYLIGHT
BEGIN:STANDARD
TZOFFSETFROM:-0700
TZOFFSETTO:-0800
TZNAME:PST
DTSTART:20251102T090000
END:STANDARD
BEGIN:DAYLIGHT
TZOFFSETFROM:-0800
TZOFFSETTO:-0700
TZNAME:PDT
DTSTART:20260308T100000
END:DAYLIGHT
BEGIN:STANDARD
TZOFFSETFROM:-0700
TZOFFSETTO:-0800
TZNAME:PST
DTSTART:20261101T090000
END:STANDARD
BEGIN:DAYLIGHT
TZOFFSETFROM:-0800
TZOFFSETTO:-0700
TZNAME:PDT
DTSTART:20270314T100000
END:DAYLIGHT
BEGIN:STANDARD
TZOFFSETFROM:-0700
TZOFFSETTO:-0800
TZNAME:PST
DTSTART:20271107T090000
END:STANDARD
END:VTIMEZONE
BEGIN:VEVENT
DTSTART;TZID=America/Los_Angeles:20260429T103000
DTEND;TZID=America/Los_Angeles:20260429T120000
DTSTAMP:20260422T005939
CREATED:20260305T234255Z
LAST-MODIFIED:20260305T235722Z
UID:121544-1777458600-1777464000@gospelrescuemissiongp.org
SUMMARY:April Open House at Gospel Rescue Mission
DESCRIPTION:Tour the Mission\, Hear from Mission Staff\, Ask your Questions\, Stay for Lunch! Open house begins 10:30am at Wagner Hall: 540 SW Foundry Street\, Grants Pass\, OR 97526
URL:https://gospelrescuemissiongp.org/event/open-house-at-gospel-rescue-mission/
LOCATION:Grants Pass Gospel Rescue Mission – Wagner Hall\, 540 Southwest Foundry Street\, Grants Pass\, OR\, 97526\, United States
CATEGORIES:Open House
ATTACH;FMTTYPE=image/png:https://gospelrescuemissiongp.org/wp-content/uploads/2026/03/Open-House-9x16-900.png
END:VEVENT
BEGIN:VEVENT
DTSTART;TZID=America/Los_Angeles:20260408T090000
DTEND;TZID=America/Los_Angeles:20260408T110000
DTSTAMP:20260422T005939
CREATED:20260326T001532Z
LAST-MODIFIED:20260326T002353Z
UID:124267-1775638800-1775646000@gospelrescuemissiongp.org
SUMMARY:TASTE OF HOPE! - Homeless Joe Coffee Tasting Event
DESCRIPTION:Stop by Second Chance Thrift Store Downtown or Booth Street location on Wednesday\, April 8th\, from 9:00 am – 11:00 am for free samples of our latest Homeless Joe Coffee roasts!\n\nWhat’s this Homeless Joe everyone’s talking about? It’s the brew that helps people leave homeless behind for good! Each bag sold supports the programs of the Grants Pass Gospel Rescue Mission.\n\nPLUS…For all of April\, purchase any bag of Homeless Joe and take 50% OFF any coffee maker in the store (while supplies last!).\n\nPLUS…Every bag you buy is an entry to win a free bag of coffee in our May 1st drawing. Buy 5 bags\, get 5 entries!\nWhether you’re a long-time fan or looking to try a new roast\, we’d love to see you. Come grab a bag today\, save on a new-to-you machine\, and help us continue the mission here in Grants Pass!
URL:https://gospelrescuemissiongp.org/event/taste-of-hope-homeless-joe-coffee-tasting-event/
LOCATION:Second Chance Thrift Store – Downtown\, 421 SE 6th St.\, Grants Pass\, OR\, 97526\, United States
CATEGORIES:Fundraiser
ATTACH;FMTTYPE=image/jpeg:https://gospelrescuemissiongp.org/wp-content/uploads/2026/03/HOPE2-scaled.jpg
END:VEVENT
END:VCALENDAR